BEGIN:VCALENDAR
VERSION:2.0
PRODID:-//hacksw/handcal//NONSGML v1.0//EN
BEGIN:VEVENT
UID:11580
DTSTART;VALUE=DATE:20181115
URL;VALUE=URI:ohschonhell.at/?page_id=25567
SUMMARY:ViT ft. Lagartijeando
LOCATION:EINBAUMÖBEL - 1bm
END:VEVENT
END:VCALENDAR


