BEGIN:VCALENDAR
VERSION:2.0
PRODID:-//hacksw/handcal//NONSGML v1.0//EN
BEGIN:VEVENT
UID:11589
DTSTART;VALUE=DATE:20181117
URL;VALUE=URI:ohschonhell.at/?page_id=25588
SUMMARY:DJLine: Techno and House
LOCATION:SCHIKANEDER
END:VEVENT
END:VCALENDAR


