BEGIN:VCALENDAR
VERSION:2.0
PRODID:-//hacksw/handcal//NONSGML v1.0//EN
BEGIN:VEVENT
UID:11594
DTSTART;VALUE=DATE:20181130
URL;VALUE=URI:ohschonhell.at/?page_id=25598
SUMMARY:Horst &amp\; Der Freie Rave mit Marco Bailey
LOCATION:HORST
END:VEVENT
END:VCALENDAR


