BEGIN:VCALENDAR
VERSION:2.0
PRODID:-//hacksw/handcal//NONSGML v1.0//EN
BEGIN:VEVENT
UID:11599
DTSTART;VALUE=DATE:20181214
URL;VALUE=URI:ohschonhell.at/?page_id=25608
SUMMARY:Fish Market w/ Somewhen (Berghain\, BLN)
LOCATION:GRELLE FORELLE
END:VEVENT
END:VCALENDAR


