BEGIN:VCALENDAR
VERSION:2.0
PRODID:-//hacksw/handcal//NONSGML v1.0//EN
BEGIN:VEVENT
UID:11613
DTSTART;VALUE=DATE:20181208
URL;VALUE=URI:ohschonhell.at/?page_id=25637
SUMMARY:AUCH BASS MUSS SEIN
LOCATION:CAFE DERWISCH
END:VEVENT
END:VCALENDAR


