BEGIN:VCALENDAR
VERSION:2.0
PRODID:-//hacksw/handcal//NONSGML v1.0//EN
BEGIN:VEVENT
UID:1162
DTSTART;VALUE=DATE:20140423
URL;VALUE=URI:ohschonhell.at/?page_id=3634
SUMMARY:Hicholas Noffman &amp\; Andi Fettkakao DJ night
LOCATION:ELEKTRO GÖNNER
END:VEVENT
END:VCALENDAR


