BEGIN:VCALENDAR
VERSION:2.0
PRODID:-//hacksw/handcal//NONSGML v1.0//EN
BEGIN:VEVENT
UID:11621
DTSTART;VALUE=DATE:20190223
URL;VALUE=URI:ohschonhell.at/?page_id=25655
SUMMARY:10. Wiener Technoball
LOCATION:Wiener Techno Ball
END:VEVENT
END:VCALENDAR


