BEGIN:VCALENDAR
VERSION:2.0
PRODID:-//hacksw/handcal//NONSGML v1.0//EN
BEGIN:VEVENT
UID:11631
DTSTART;VALUE=DATE:20181207
URL;VALUE=URI:ohschonhell.at/?page_id=25675
SUMMARY:Ashida Park x Sentimental Rave
LOCATION:OPERA CLUB
END:VEVENT
END:VCALENDAR


