BEGIN:VCALENDAR
VERSION:2.0
PRODID:-//hacksw/handcal//NONSGML v1.0//EN
BEGIN:VEVENT
UID:11635
DTSTART;VALUE=DATE:20181128
URL;VALUE=URI:ohschonhell.at/?page_id=25683
SUMMARY:Magic Carpet Ride flies Kramladen #1
LOCATION:Kramladen
END:VEVENT
END:VCALENDAR


