BEGIN:VCALENDAR
VERSION:2.0
PRODID:-//hacksw/handcal//NONSGML v1.0//EN
BEGIN:VEVENT
UID:11636
DTSTART;VALUE=DATE:20181124
URL;VALUE=URI:ohschonhell.at/?page_id=25685
SUMMARY:Circa afterhours - each and every saturday morning\, in december!
LOCATION:Heart Club
END:VEVENT
END:VCALENDAR


