BEGIN:VCALENDAR
VERSION:2.0
PRODID:-//hacksw/handcal//NONSGML v1.0//EN
BEGIN:VEVENT
UID:11650
DTSTART;VALUE=DATE:20181206
URL;VALUE=URI:ohschonhell.at/?page_id=25713
SUMMARY:Donnerstag Nacht: 7 hrs of Manifest
LOCATION:SASS
END:VEVENT
END:VCALENDAR


