BEGIN:VCALENDAR
VERSION:2.0
PRODID:-//hacksw/handcal//NONSGML v1.0//EN
BEGIN:VEVENT
UID:11665
DTSTART;VALUE=DATE:20181226
URL;VALUE=URI:ohschonhell.at/?page_id=25745
SUMMARY:Hals über Kopf w/ Oberst &amp\; Buchner &amp\; mëx
LOCATION:FLUX
END:VEVENT
END:VCALENDAR


