BEGIN:VCALENDAR
VERSION:2.0
PRODID:-//hacksw/handcal//NONSGML v1.0//EN
BEGIN:VEVENT
UID:11672
DTSTART;VALUE=DATE:20181205
URL;VALUE=URI:ohschonhell.at/?page_id=25759
SUMMARY:Tanz dich glücklich #4
LOCATION:ELEKTRO GÖNNER
END:VEVENT
END:VCALENDAR


