BEGIN:VCALENDAR
VERSION:2.0
PRODID:-//hacksw/handcal//NONSGML v1.0//EN
BEGIN:VEVENT
UID:11684
DTSTART;VALUE=DATE:20181222
URL;VALUE=URI:ohschonhell.at/?page_id=25787
SUMMARY:A Fortunea X-mas Carol
LOCATION:ELEKTRO GÖNNER
END:VEVENT
END:VCALENDAR


