BEGIN:VCALENDAR
VERSION:2.0
PRODID:-//hacksw/handcal//NONSGML v1.0//EN
BEGIN:VEVENT
UID:11686
DTSTART;VALUE=DATE:20190112
URL;VALUE=URI:ohschonhell.at/?page_id=25791
SUMMARY:12/1/2019 MindFight.Audio presents Dotronix &amp\; Scvlpture
LOCATION:VIPER ROOM
END:VEVENT
END:VCALENDAR


