BEGIN:VCALENDAR
VERSION:2.0
PRODID:-//hacksw/handcal//NONSGML v1.0//EN
BEGIN:VEVENT
UID:11701
DTSTART;VALUE=DATE:20181215
URL;VALUE=URI:ohschonhell.at/?page_id=25822
SUMMARY:Kw36Sa w/ LDY OSC (The Bunker NY)
LOCATION:The Real White Rabbit
END:VEVENT
END:VCALENDAR


