BEGIN:VCALENDAR
VERSION:2.0
PRODID:-//hacksw/handcal//NONSGML v1.0//EN
BEGIN:VEVENT
UID:11708
DTSTART;VALUE=DATE:20181123
URL;VALUE=URI:ohschonhell.at/?page_id=25836
SUMMARY:Resselbande Punschstand 2018
LOCATION:Resselbande
END:VEVENT
END:VCALENDAR


