BEGIN:VCALENDAR
VERSION:2.0
PRODID:-//hacksw/handcal//NONSGML v1.0//EN
BEGIN:VEVENT
UID:11729
DTSTART;VALUE=DATE:20190118
URL;VALUE=URI:ohschonhell.at/?page_id=25878
SUMMARY:Dead Sea Diaries | Positive Life Force (aka. Sedvs &amp\; Peel live)
LOCATION:GRELLE FORELLE
END:VEVENT
END:VCALENDAR


