BEGIN:VCALENDAR
VERSION:2.0
PRODID:-//hacksw/handcal//NONSGML v1.0//EN
BEGIN:VEVENT
UID:1173
DTSTART;VALUE=DATE:20140426
URL;VALUE=URI:ohschonhell.at/?page_id=3645
SUMMARY:ELEKTROLAND PARTY
LOCATION:ELEKTRO GÖNNER
END:VEVENT
END:VCALENDAR


