BEGIN:VCALENDAR
VERSION:2.0
PRODID:-//hacksw/handcal//NONSGML v1.0//EN
BEGIN:VEVENT
UID:11733
DTSTART;VALUE=DATE:20181230
URL;VALUE=URI:ohschonhell.at/?page_id=25886
SUMMARY:Sounderground
LOCATION:ELEKTRO GÖNNER
END:VEVENT
END:VCALENDAR


