BEGIN:VCALENDAR
VERSION:2.0
PRODID:-//hacksw/handcal//NONSGML v1.0//EN
BEGIN:VEVENT
UID:11740
DTSTART;VALUE=DATE:20181215
URL;VALUE=URI:ohschonhell.at/?page_id=25900
SUMMARY:Zur Gönnerin #6
LOCATION:ELEKTRO GÖNNER
END:VEVENT
END:VCALENDAR


