BEGIN:VCALENDAR
VERSION:2.0
PRODID:-//hacksw/handcal//NONSGML v1.0//EN
BEGIN:VEVENT
UID:11754
DTSTART;VALUE=DATE:20181231
URL;VALUE=URI:ohschonhell.at/?page_id=25929
SUMMARY:Silvester.AU - SUB Special
LOCATION:AU
END:VEVENT
END:VCALENDAR


