BEGIN:VCALENDAR
VERSION:2.0
PRODID:-//hacksw/handcal//NONSGML v1.0//EN
BEGIN:VEVENT
UID:11762
DTSTART;VALUE=DATE:20181221
URL;VALUE=URI:ohschonhell.at/?page_id=25945
SUMMARY:DiSCO FRiSCO | Elekro Gönner
LOCATION:ELEKTRO GÖNNER
END:VEVENT
END:VCALENDAR


