BEGIN:VCALENDAR
VERSION:2.0
PRODID:-//hacksw/handcal//NONSGML v1.0//EN
BEGIN:VEVENT
UID:11764
DTSTART;VALUE=DATE:20181221
URL;VALUE=URI:ohschonhell.at/?page_id=25949
SUMMARY:Curcama´s Weihnachtspunschen Für Den Guten Zweck
LOCATION:Resselbande
END:VEVENT
END:VCALENDAR


