BEGIN:VCALENDAR
VERSION:2.0
PRODID:-//hacksw/handcal//NONSGML v1.0//EN
BEGIN:VEVENT
UID:11767
DTSTART;VALUE=DATE:20181224
URL;VALUE=URI:ohschonhell.at/?page_id=25955
SUMMARY:PeaceSpirit ★ Art-Club ★ the holy night
LOCATION:Heart Club
END:VEVENT
END:VCALENDAR


