BEGIN:VCALENDAR
VERSION:2.0
PRODID:-//hacksw/handcal//NONSGML v1.0//EN
BEGIN:VEVENT
UID:11778
DTSTART;VALUE=DATE:20181231
URL;VALUE=URI:ohschonhell.at/?page_id=25980
SUMMARY:Glitza\, Chrome &amp\; Schlechter Rapper
LOCATION:Dessous
END:VEVENT
END:VCALENDAR


