BEGIN:VCALENDAR
VERSION:2.0
PRODID:-//hacksw/handcal//NONSGML v1.0//EN
BEGIN:VEVENT
UID:1181
DTSTART;VALUE=DATE:20140425
URL;VALUE=URI:ohschonhell.at/?page_id=3653
SUMMARY:Volksgarten Pavillon Summer Opening
LOCATION:VOLKSGARTEN PAVILLON
END:VEVENT
END:VCALENDAR


