BEGIN:VCALENDAR
VERSION:2.0
PRODID:-//hacksw/handcal//NONSGML v1.0//EN
BEGIN:VEVENT
UID:11817
DTSTART;VALUE=DATE:20190101
URL;VALUE=URI:ohschonhell.at/?page_id=26058
SUMMARY:Circa spezial - newyearsafterhour
LOCATION:Heart Club
END:VEVENT
END:VCALENDAR


