BEGIN:VCALENDAR
VERSION:2.0
PRODID:-//hacksw/handcal//NONSGML v1.0//EN
BEGIN:VEVENT
UID:11818
DTSTART;VALUE=DATE:20190207
URL;VALUE=URI:ohschonhell.at/?page_id=26060
SUMMARY:PeaceSpirit ★ Art-Club ★ Antennen Galaxie
LOCATION:Heart Club
END:VEVENT
END:VCALENDAR


