BEGIN:VCALENDAR
VERSION:2.0
PRODID:-//hacksw/handcal//NONSGML v1.0//EN
BEGIN:VEVENT
UID:11824
DTSTART;VALUE=DATE:20190110
URL;VALUE=URI:ohschonhell.at/?page_id=26072
SUMMARY:PeaceSpirit ★ Art-Club ★ Welcome 2019
LOCATION:Heart Club
END:VEVENT
END:VCALENDAR


