BEGIN:VCALENDAR
VERSION:2.0
PRODID:-//hacksw/handcal//NONSGML v1.0//EN
BEGIN:VEVENT
UID:11851
DTSTART;VALUE=DATE:20190117
URL;VALUE=URI:ohschonhell.at/?page_id=26127
SUMMARY:Katerfrühstück. #8 - Wohnzimmer Edition
LOCATION:Kramladen
END:VEVENT
END:VCALENDAR


