BEGIN:VCALENDAR
VERSION:2.0
PRODID:-//hacksw/handcal//NONSGML v1.0//EN
BEGIN:VEVENT
UID:11856
DTSTART;VALUE=DATE:20190112
URL;VALUE=URI:ohschonhell.at/?page_id=26137
SUMMARY:DISCO FRISCO | Luster unten
LOCATION:Luster
END:VEVENT
END:VCALENDAR


