BEGIN:VCALENDAR
VERSION:2.0
PRODID:-//hacksw/handcal//NONSGML v1.0//EN
BEGIN:VEVENT
UID:11857
DTSTART;VALUE=DATE:20190112
URL;VALUE=URI:ohschonhell.at/?page_id=26139
SUMMARY:SEH MA SICH im Sass (Inkognito)
LOCATION:SASS
END:VEVENT
END:VCALENDAR


