BEGIN:VCALENDAR
VERSION:2.0
PRODID:-//hacksw/handcal//NONSGML v1.0//EN
BEGIN:VEVENT
UID:11862
DTSTART;VALUE=DATE:20190607
URL;VALUE=URI:ohschonhell.at/?page_id=26150
SUMMARY:Disco Beach - Grand Opening 2019 -
LOCATION:VIENNA CITY BEACH CLUB
END:VEVENT
END:VCALENDAR


