BEGIN:VCALENDAR
VERSION:2.0
PRODID:-//hacksw/handcal//NONSGML v1.0//EN
BEGIN:VEVENT
UID:11866
DTSTART;VALUE=DATE:20190223
URL;VALUE=URI:ohschonhell.at/?page_id=26158
SUMMARY:Kult! w/ Lamache
LOCATION:SASS
END:VEVENT
END:VCALENDAR


