BEGIN:VCALENDAR
VERSION:2.0
PRODID:-//hacksw/handcal//NONSGML v1.0//EN
BEGIN:VEVENT
UID:11870
DTSTART;VALUE=DATE:20190215
URL;VALUE=URI:ohschonhell.at/?page_id=26166
SUMMARY:Horst und Hannelore w. Kollektiv Turmstrasse (diynamic)
LOCATION:HORST
END:VEVENT
END:VCALENDAR


