BEGIN:VCALENDAR
VERSION:2.0
PRODID:-//hacksw/handcal//NONSGML v1.0//EN
BEGIN:VEVENT
UID:11874
DTSTART;VALUE=DATE:20190208
URL;VALUE=URI:ohschonhell.at/?page_id=26174
SUMMARY:Horst und Hannelore w. Seth Troxler
LOCATION:HORST
END:VEVENT
END:VCALENDAR


