BEGIN:VCALENDAR
VERSION:2.0
PRODID:-//hacksw/handcal//NONSGML v1.0//EN
BEGIN:VEVENT
UID:11875
DTSTART;VALUE=DATE:20190202
URL;VALUE=URI:ohschonhell.at/?page_id=26176
SUMMARY:ERNA kramt n.11 // free entry // hr:lhmn b2b riot paul
LOCATION:Kramladen
END:VEVENT
END:VCALENDAR


