BEGIN:VCALENDAR
VERSION:2.0
PRODID:-//hacksw/handcal//NONSGML v1.0//EN
BEGIN:VEVENT
UID:11886
DTSTART;VALUE=DATE:20190125
URL;VALUE=URI:ohschonhell.at/?page_id=26198
SUMMARY:Café del Mario - Faschingsauftakt
LOCATION:HORST
END:VEVENT
END:VCALENDAR


