BEGIN:VCALENDAR
VERSION:2.0
PRODID:-//hacksw/handcal//NONSGML v1.0//EN
BEGIN:VEVENT
UID:11887
DTSTART;VALUE=DATE:20190125
URL;VALUE=URI:ohschonhell.at/?page_id=26200
SUMMARY:PeaceSpirit ★ Art-Club ★ UmAbEl
LOCATION:Heart Club
END:VEVENT
END:VCALENDAR


