BEGIN:VCALENDAR
VERSION:2.0
PRODID:-//hacksw/handcal//NONSGML v1.0//EN
BEGIN:VEVENT
UID:11894
DTSTART;VALUE=DATE:20190118
URL;VALUE=URI:ohschonhell.at/?page_id=26214
SUMMARY:Tattu Tatta Club w/ Caramelo DJ Set / Neba / DJ Gusch
LOCATION:CAMERA CLUB
END:VEVENT
END:VCALENDAR


