BEGIN:VCALENDAR
VERSION:2.0
PRODID:-//hacksw/handcal//NONSGML v1.0//EN
BEGIN:VEVENT
UID:11897
DTSTART;VALUE=DATE:20190117
URL;VALUE=URI:ohschonhell.at/?page_id=26220
SUMMARY:Grätzlsound X Strawanza - Grätzl-Strawanzen II
LOCATION:CAMERA CLUB
END:VEVENT
END:VCALENDAR


