BEGIN:VCALENDAR
VERSION:2.0
PRODID:-//hacksw/handcal//NONSGML v1.0//EN
BEGIN:VEVENT
UID:11900
DTSTART;VALUE=DATE:20190115
URL;VALUE=URI:ohschonhell.at/?page_id=26226
SUMMARY:Durch Die Augen
LOCATION:DONAUTECHNO.COM
END:VEVENT
END:VCALENDAR


