BEGIN:VCALENDAR
VERSION:2.0
PRODID:-//hacksw/handcal//NONSGML v1.0//EN
BEGIN:VEVENT
UID:11903
DTSTART;VALUE=DATE:20190413
URL;VALUE=URI:ohschonhell.at/?page_id=26233
SUMMARY:Pirate Theatre - 8th Anniversary of Soundlab Pirates
LOCATION:METROPOL
END:VEVENT
END:VCALENDAR


