BEGIN:VCALENDAR
VERSION:2.0
PRODID:-//hacksw/handcal//NONSGML v1.0//EN
BEGIN:VEVENT
UID:11906
DTSTART;VALUE=DATE:20190222
URL;VALUE=URI:ohschonhell.at/?page_id=26239
SUMMARY:Horst &amp\; Hannelore pres. Apollonia
LOCATION:HORST
END:VEVENT
END:VCALENDAR


