BEGIN:VCALENDAR
VERSION:2.0
PRODID:-//hacksw/handcal//NONSGML v1.0//EN
BEGIN:VEVENT
UID:11908
DTSTART;VALUE=DATE:20190215
URL;VALUE=URI:ohschonhell.at/?page_id=26243
SUMMARY:Sub@AU - BDAY BASH
LOCATION:AU
END:VEVENT
END:VCALENDAR


