BEGIN:VCALENDAR
VERSION:2.0
PRODID:-//hacksw/handcal//NONSGML v1.0//EN
BEGIN:VEVENT
UID:11911
DTSTART;VALUE=DATE:20190209
URL;VALUE=URI:ohschonhell.at/?page_id=26249
SUMMARY:Malen Nach Zahlen w/ TC80 (Sequalog)
LOCATION:SASS
END:VEVENT
END:VCALENDAR


