BEGIN:VCALENDAR
VERSION:2.0
PRODID:-//hacksw/handcal//NONSGML v1.0//EN
BEGIN:VEVENT
UID:11912
DTSTART;VALUE=DATE:20190209
URL;VALUE=URI:ohschonhell.at/?page_id=26251
SUMMARY:Vienna ist Tropical #Melting Point
LOCATION:Fanialive
END:VEVENT
END:VCALENDAR


