BEGIN:VCALENDAR
VERSION:2.0
PRODID:-//hacksw/handcal//NONSGML v1.0//EN
BEGIN:VEVENT
UID:11931
DTSTART;VALUE=DATE:20190125
URL;VALUE=URI:ohschonhell.at/?page_id=26289
SUMMARY:Mutter - Introducing
LOCATION:SASS
END:VEVENT
END:VCALENDAR


