BEGIN:VCALENDAR
VERSION:2.0
PRODID:-//hacksw/handcal//NONSGML v1.0//EN
BEGIN:VEVENT
UID:11933
DTSTART;VALUE=DATE:20190125
URL;VALUE=URI:ohschonhell.at/?page_id=26293
SUMMARY:Disco Frisco | Wirr
LOCATION:WIRR
END:VEVENT
END:VCALENDAR


